BEGIN:VCALENDAR
VERSION:2.0
PRODID:-//ENIJE  - ECPv6.15.11//NONSGML v1.0//EN
CALSCALE:GREGORIAN
METHOD:PUBLISH
X-ORIGINAL-URL:https://enije.com
X-WR-CALDESC:Events for ENIJE 
REFRESH-INTERVAL;VALUE=DURATION:PT1H
X-Robots-Tag:noindex
X-PUBLISHED-TTL:PT1H
BEGIN:VTIMEZONE
TZID:UTC
BEGIN:STANDARD
TZOFFSETFROM:+0000
TZOFFSETTO:+0000
TZNAME:UTC
DTSTART:20240101T000000
END:STANDARD
END:VTIMEZONE
BEGIN:VEVENT
DTSTART;TZID=UTC:20250404T080000
DTEND;TZID=UTC:20250408T170000
DTSTAMP:20260423T034652
CREATED:20250223T105559Z
LAST-MODIFIED:20250502T131347Z
UID:2412-1743753600-1744131600@enije.com
SUMMARY:Pixel Hero!
DESCRIPTION:Das Projekt Pixel Hero – Lesen ist meine Superkraft stärkt die Lesemotivation und Medienkompetenz von Grundschulkindern durch kreatives Storytelling und digitale Animation. In interaktiven Workshops lernen die Kinder die Grundlagen der Animation kennen\, gestalten eigene animierte Geschichten und setzen sich mit Themen wie Vielfalt und kultureller Identität auseinander. Durch die Förderung von Aktion Mensch und den Deutschen Bibliotheksverband (dbv) wird sichergestellt\, dass das Projekt nachhaltig umgesetzt und benachteiligte Kinder gezielt erreicht werden. \n\n \n  \n  \n                                                                                                                                                                                                                               WhatsApp-Image-2025-04-15-at-11.10.38-PM-4                                                                                                                                                                                                              WhatsApp-Image-2025-04-15-at-11.10.38-PM-2                                                                                                                                                                                                              WhatsApp-Image-2025-04-15-at-11.10.38-PM-3                                                                                                                                                                                                              WhatsApp-Image-2025-04-15-at-11.10.38-PM-1                                                                                                                                                                                                              WhatsApp-Image-2025-04-15-at-11.10.38-PM                                                                                                                                                                                                              WhatsApp-Image-2025-04-15-at-11.10.37-PM-11                                                                                                                                                                                                              WhatsApp-Image-2025-04-15-at-11.10.37-PM-12                                                                                                                                                                                                              WhatsApp-Image-2025-04-15-at-11.10.37-PM-10                                                                                                                                                                                                              WhatsApp-Image-2025-04-15-at-11.10.37-PM-9                                                                                                                                                                                                              WhatsApp-Image-2025-04-15-at-11.10.37-PM-8                                                                                                                                                                                                              WhatsApp-Image-2025-04-15-at-11.10.37-PM-6                                                                                                                                                                                                              WhatsApp-Image-2025-04-15-at-11.10.37-PM-5                                                                                                                                                                                                              WhatsApp-Image-2025-04-15-at-11.10.37-PM-7                                                                                                                                                                                                              WhatsApp-Image-2025-04-15-at-11.10.37-PM-3                                                                                                                                                                                                              WhatsApp-Image-2025-04-15-at-11.10.37-PM-4                                                                                                                                                                                                              WhatsApp-Image-2025-04-15-at-11.10.37-PM-2                                                                                                                                                                                                              WhatsApp-Image-2025-04-15-at-11.10.37-PM                                                                                                                                                                                                              WhatsApp-Image-2025-04-15-at-11.10.36-PM-3                                                                                                                                                                                                              WhatsApp-Image-2025-04-15-at-11.10.37-PM-1                                                                                                                                                                                                              WhatsApp-Image-2025-04-15-at-11.10.36-PM-2                                                                                                                                                                                                              WhatsApp-Image-2025-04-15-at-11.10.36-PM-1                                                                                                                                                                                                              WhatsApp-Image-2025-04-15-at-11.10.36-PM (1)                                                                                                                                                                                                                                                                    \nhttps://enije.com/wp-content/uploads/2025/04/WhatsApp-Video-2025-04-15-at-11.10.36-PM.mp4\nhttps://enije.com/wp-content/uploads/2025/04/WhatsApp-Video-2025-04-15-at-11.10.05-PM-2.mp4\nhttps://enije.com/wp-content/uploads/2025/04/WhatsApp-Video-2025-04-15-at-11.10.05-PM-1.mp4\nhttps://enije.com/wp-content/uploads/2025/04/WhatsApp-Video-2025-04-15-at-11.10.05-PM.mp4
URL:https://enije.com/event/pixel-hero/
CATEGORIES:enije,Upcoming Events
ATTACH;FMTTYPE=image/png:https://enije.com/wp-content/uploads/2025/02/Screenshot-2025-05-02-200841.png
END:VEVENT
END:VCALENDAR