BEGIN:VCALENDAR
VERSION:2.0
PRODID:-//ENIJE  - ECPv6.15.11//NONSGML v1.0//EN
CALSCALE:GREGORIAN
METHOD:PUBLISH
X-ORIGINAL-URL:https://enije.com
X-WR-CALDESC:Events for ENIJE 
REFRESH-INTERVAL;VALUE=DURATION:PT1H
X-Robots-Tag:noindex
X-PUBLISHED-TTL:PT1H
BEGIN:VTIMEZONE
TZID:UTC
BEGIN:STANDARD
TZOFFSETFROM:+0000
TZOFFSETTO:+0000
TZNAME:UTC
DTSTART:20240101T000000
END:STANDARD
END:VTIMEZONE
BEGIN:VEVENT
DTSTART;TZID=UTC:20250215T080000
DTEND;TZID=UTC:20250215T170000
DTSTAMP:20260423T085640
CREATED:20250223T104722Z
LAST-MODIFIED:20250313T145113Z
UID:2416-1739606400-1739638800@enije.com
SUMMARY:Joyful\, Joyful
DESCRIPTION:Bericht zur zweiten Session von Joyful\, Joyful – 15. Februar 2025 \nNach den Erkenntnissen aus unserer ersten Session am 18. Januar haben wir einige\nAnpassungen vorgenommen\, die sich als äußerst erfolgreich erwiesen haben. Am 15.\nFebruar 2025 konnten wir eine noch intensivere\, gemeinschaftliche Atmosphäre schaffen. \n \nhttps://enije.com/wp-content/uploads/2025/02/VIDEO-Joyful.mp4\nNeue Struktur und Raumgestaltung\nWir haben entschieden\, die Liedtexte nicht mehr zu verteilen und ausschließlich englische\nLieder zu singen\, basierend auf den Erkenntnissen aus den Workshops\, dass Musik neues\nLernen fördern kann. Dies hat sich bewährt – die Teilnehmer*innen ließen sich vollkommen\nauf die Musik ein und waren aktiv beteiligt. Zudem wurden die Tische entfernt\, sodass wir\nalle\, mit und ohne Rollstuhl\, in einem großen Kreis zusammen musizieren konnten. Dadurch\nwurde die Interaktion intensiviert und die Teilhabe erheblich gesteigert.\nHöhere Beteiligung und begeistertes Personal\nDie Mitarbeiterinnen des Hauses waren deutlich aufgewärmter als bei der ersten Session\nund haben aktiv mitgewirkt – ihre Begeisterung hat sich unmittelbar auf die Bewohnerinnen\nübertragen. Eine besondere Szene spielte sich ab\, als eine muslimische Dame mit einem\nBewohner wortwörtlich auf einem Tisch tanzte – ein beeindruckender Ausdruck von Freude\nund gemeinschaftlichem Erleben. \nNachhaltige Wirkung und tiefere Gespräche\nNach der Session entwickelte sich eine angeregte Unterhaltung unter den Teilnehmenden –\nvon Musik bis hin zu politischen Themen. Besonders berührend war der Austausch mit\neinem älteren Herrn\, der uns mehrfach Teile seiner Lebensgeschichte erzählte. Obwohl die\nFrage nach seiner Meinung zur Session im Raum stand\, war sein Engagement und seine\nBereitschaft zur Kommunikation bemerkenswert.\nEin weiterer Gast entschied sich sogar spontan\, seinen geplanten Marktbesuch zu\nverschieben\, um länger zu bleiben – ein Zeichen dafür\, dass die Veranstaltung nicht nur\nunterhaltsam\, sondern auch bedeutungsvoll für die Teilnehmenden war. \nFazit und Ausblick\nDie zweite Session war ein großer Erfolg. Die offene Raumgestaltung\, das aktive Einbinden\nder Teilnehmenden ohne Liedmappen und die Wahl der Lieder haben für eine wesentlich\nhöhere Beteiligung gesorgt. Die Energie und Freude waren spürbar und zeigen\, dass Joyful\,\nJoyful immer mehr zu einer festen\, wertgeschätzten Institution im Haus Brina wird.\nWir freuen uns auf die nächste Session und darauf\, noch weitere Impulse aus diesen\nwertvollen Erfahrungen mitzunehmen!
URL:https://enije.com/event/joyful-joyful/
CATEGORIES:Upcoming Events,Upcoming Events V2
ATTACH;FMTTYPE=image/jpeg:https://enije.com/wp-content/uploads/2025/02/joyful-brown-15feb-1-scaled.jpg
END:VEVENT
END:VCALENDAR