BEGIN:VCALENDAR
VERSION:2.0
PRODID:-//ENIJE  - ECPv6.15.11//NONSGML v1.0//EN
CALSCALE:GREGORIAN
METHOD:PUBLISH
X-ORIGINAL-URL:https://enije.com
X-WR-CALDESC:Events for ENIJE 
REFRESH-INTERVAL;VALUE=DURATION:PT1H
X-Robots-Tag:noindex
X-PUBLISHED-TTL:PT1H
BEGIN:VTIMEZONE
TZID:UTC
BEGIN:STANDARD
TZOFFSETFROM:+0000
TZOFFSETTO:+0000
TZNAME:UTC
DTSTART:20240101T000000
END:STANDARD
END:VTIMEZONE
BEGIN:VEVENT
DTSTART;TZID=UTC:20250118T080000
DTEND;TZID=UTC:20250118T170000
DTSTAMP:20260423T151226
CREATED:20250223T103332Z
LAST-MODIFIED:20250223T103332Z
UID:2414-1737187200-1737219600@enije.com
SUMMARY:Lets Jam - Creatifs ensembles
DESCRIPTION:Lets Jam – Creatifs ensembles Let’s Jam: Créatifs ensemble” fand am 18. Januar 2025 in Düsseldorf anlässlich des Deutsch-Französischen Tags statt und wurde mit Unterstützung des Deutsch-Französischen Bürgerfonds realisiert. Künstler*innen aus Deutschland und Frankreich\, darunter Vérushka Engola\, Sam\, Robin Soho\, Amalya und Blind Don\, präsentierten ein vielseitiges Programm mit Live-Acts\, Spoken Word\, Kunst und einer Open-Mic-Session. Das Event förderte kreativen Austausch\, kulturelle Vielfalt und die deutsch-französische Freundschaft und bot einen einzigartigen Abend voller Musik\, Kunst und Begegnung.
URL:https://enije.com/event/lets-jam-creatifs-ensembles/
CATEGORIES:enije,Upcoming Events
ATTACH;FMTTYPE=image/jpeg:https://enije.com/wp-content/uploads/2024/12/ZZ_ALBUM_38.jpg
END:VEVENT
END:VCALENDAR