BEGIN:VCALENDAR
VERSION:2.0
PRODID:-//ENIJE  - ECPv6.15.11//NONSGML v1.0//EN
CALSCALE:GREGORIAN
METHOD:PUBLISH
X-ORIGINAL-URL:https://enije.com
X-WR-CALDESC:Events for ENIJE 
REFRESH-INTERVAL;VALUE=DURATION:PT1H
X-Robots-Tag:noindex
X-PUBLISHED-TTL:PT1H
BEGIN:VTIMEZONE
TZID:UTC
BEGIN:STANDARD
TZOFFSETFROM:+0000
TZOFFSETTO:+0000
TZNAME:UTC
DTSTART:20110101T000000
END:STANDARD
END:VTIMEZONE
BEGIN:VEVENT
DTSTART;TZID=UTC:20121219T080000
DTEND;TZID=UTC:20241219T170000
DTSTAMP:20260423T194942
CREATED:20121002T143439Z
LAST-MODIFIED:20250223T094435Z
UID:1494-1355904000-1734627600@enije.com
SUMMARY:Gospel Tanne - Ein Weihnachtskonzert – 19.12.2012
DESCRIPTION:Gemeinsam mit dem Bilker Bürgerhaus luden wir ganz herzlich zu einen besonderen Vor-Weihnachtsfesterlebnis ein. Dieses Event schuf die Möglichkeit\, die Spiritualität der Gospelmusik und die Aventszeit neu zu erleben und diente unserem gemeinsamen Ziel\, Integration durch Kultur zu befördern. Der Abend wurde gestaltet durch den Düsseldorfer NewLifeGospel Choir und Freunde (der Latter Rain Jugendtheatergruppe und dem Christ ROI Classical Choir) sowie Überraschungen.\nUnseren Gästen hat dieses Event besonders gut gefallen und es wurde gebeten dies beizubehalten.
URL:https://enije.com/event/gospel-tanne-ein-weihnachtskonzert-19-12-2012/
CATEGORIES:enije,Upcoming Events
ATTACH;FMTTYPE=image/jpeg:https://enije.com/wp-content/uploads/2024/10/Picture15.jpg
END:VEVENT
BEGIN:VEVENT
DTSTART;TZID=UTC:20241002T080000
DTEND;TZID=UTC:20241002T170000
DTSTAMP:20260423T194942
CREATED:20090207T120614Z
LAST-MODIFIED:20250308T044520Z
UID:1437-1727856000-1727888400@enije.com
SUMMARY:Afrika Tage vom
DESCRIPTION:  \n  \n \nZu den 4. Afrika-Tagen wurden für Kinder etliche kostenlose Workshops wie „Trommeln selber bauen“\, „afrikanisch Tanzen“\, „afrikanisch Trommeln“ und „afrikanische Märchen“ geplant\, um ihnen fremde Kulturen näher zu bringen.\nAuch kulturelle Darbietungen wie eine traditionelle Trommelgruppe aus Togo\, ein Stelzenläufer mit seiner Gruppe\, Issa Sow\, ein Sänger aus dem Senegal\, mit seiner Gruppe\, die Gruppe „ENIJE“\, in der wir unter der Leitung von Oboja Adu jungen unerfahrenen Künstlern die Möglichkeit geben\, Bühnenerfahrung zu sammeln\, eine junge HipHop Gruppe\, wurden geplant\, um die Vielfalt der afrikanischen Kultur zu zeigen und eine Brücke zwischen Afrika und Europa zu bauen und Vorurteilen entgegen zu wirken\, das afrikanische Musik immer nur traditionell sein muss. \nHerr Birkner\, der Pressesprecher der UN\, hat in seiner Eröffnungsrede sehr ausführlich auf die UN Millenniumziele hingewiesen und es gab etliche Fragen seitens der Besucher. Auch Herr Vatalis (Vorsitzender – Ausländerbeirat Düsseldorf) hielt eine Eröffnungsrede und wies auf die Problematik der ausländischen Mitbürger hin und inwieweit die Ziele der Entwicklungspolitik schon umgesetzt wurden. \nAn Vereinen und Initiativen waren vertreten:\nInternationaler Kunstverein Köln e.V. mit Bildern afrikanischer Künstler\nVezuthando e.V.\nOum al Banine e.V.\nVision-Teilen e.V.\nMenschen gegen Minen e.V.\nWeltweiter Marsch e.V.\nWilliams Hill e.V.\nBi-national e.V.\nShona-Art e.V.\nKurus English e.V. \nWir hatten insgesamt 16 Marktstände mit einem sehr ausgewählten Angebot\, welches von Kerzen und Geschirr aus Swaziland über Musikinstrumente bis hin zu Schmuck der Tuareg reichte. Auch die Essensstände waren sorgfältig ausgewählt und jedes Angebot gab es nur einmal. \nInsgesamt waren ca. 3.000 Besucher bei den 4. Afrika Tagen.
URL:https://enije.com/event/afrika-tage-vom/
CATEGORIES:enije,Upcoming Events
ATTACH;FMTTYPE=image/jpeg:https://enije.com/wp-content/uploads/2009/02/Picture3.jpg
END:VEVENT
BEGIN:VEVENT
DTSTART;TZID=UTC:20241002T080000
DTEND;TZID=UTC:20241002T170000
DTSTAMP:20260423T194942
CREATED:20241002T150344Z
LAST-MODIFIED:20250308T034216Z
UID:1518-1727856000-1727888400@enije.com
SUMMARY:SANKOFA - Das afrikanische Musikprojekt
DESCRIPTION:SANKOFA – Das afrikanische Musikprojekt \nMit dem Musikprojekt Sankofa möchten wir afrikanischer Musik und Musikern hier in NRW einen Raum geben sich in die europäische Musikszene zu integrieren und etablieren. Ziel des Projektes ist es afrikanische Musik wieder zum Leben zu erwecken\, die Künstler hier zu finden\, ihre Kunst zu entdecken und weiter zu entwickeln. Denn die afrikanische Kunst hat viel beizutragen zur Weltkunstszene. \n  \n \n  \nZur Vergrößern bitte auf das Bild klicken. \nErfahrene Musiker sollen reaktiviert werden\, in der heutigen Musikszene aktiv teilzunehmen\, mit anderen Profis flexibel nach neusten Musikmarketing Richtlinien zu arbeiten und ihre Kompetenzen im Bereich Eigenmarketing erweitern. Junge Musiker ohne Bühnenerfahrung sollen in den Bereichen Selbstmarketing\, Bühnenpräsenz\, authentisches Auftreten etc. geschult werden und Unterstützung erfahren. \nWir\, ENIJE for Afrika e.V. sind ein gemeinnütziger Verein mit dem Ziel der Förderung und Integration von Kunst\, Kultur und Bildung in der afrikanisch/europäischen Kunst- und Kulturszene. (mehr Infos unter: www.enije-com.preview-domain.com) \nDas Konzept sieht folgendermaßen aus: \n\nFreie\, jugendliche und erfahrene Musiker werden dazu eingeladen\, ihr Demotape\, Foto und ihre Kurzbiographie an ENIJE for Afrika e. V. zu senden.\nAus den Bewerbungen wählt eine Fachjury die Kandidaten für eine erste Vorstellungsrunde aus.\nEs werden 15 jugendliche und erfahrene Künstler an dem Projekt teilnehmen können.\n\nAls Unterstützer des SANKOFA Projektes hat sich Manu Dibango verpflichtet. \nJETZT BEWERBEN\, Casting Formulat downloaden \nWorkshop:\nIn den Workshops werden die Finalisten von erfahrenen\, erfolgreichen Künstlern und Promotern unterstützt. Dozenten der WAK Westdeutschen Akademie für Kommunikation e. V.\, Ise Storb (Labor für Weltmusik)\, die einzige europäische Professorin für Jazzforschung und Geschäftsleiter von “entropie” Marco Gödde erarbeiten gemeinsam folgende Themen: \nZusammenhänge der Musikwirtschaft \n\nSongwriting – Demo Aufnahme – Urheberrecht – A&R\, Produktion\, Label und Management – Themen zur Record Company werden erläutert.\nMarketing und publishing im Musikbusiness und welche Aufgaben und Bedeutung hat die GEMA und GVL.\nBesuche in Tonstudios werden organisiert. Die Finalisten können während verschiedener Open Mics ihre Bühnenerfahrung verbessern. Sie erarbeiten Ihre ganz individuellen Musikkonzepte mit Hilfe professioneller Unterstützung.\n\nAbschließend findet mit allen Workshopteilnehmern ein gemeinsames Forum und Konzert am 25.05.2013 zum bundesweiten ‘Afrika-Tag’ mit Manu Dibango statt\, bei dem Besucher herzlich willkommen sind! \nDie Finalisten produzieren unter der Leitung des ENIJE Teams (Fairtone\, KETEKE Records\, Sound Réve) ein Studioalbum und als Highlight wird die SANKOFA Tournee stattfinden. \n  \n  \nhttps://sankofa.enije.com/
URL:https://enije.com/event/sankofa-das-afrikanische-musikprojekt/
CATEGORIES:enije,Upcoming Events
ATTACH;FMTTYPE=image/jpeg:https://enije.com/wp-content/uploads/2024/10/Picture22.jpg
END:VEVENT
END:VCALENDAR